BEGIN:VCALENDAR
VERSION:2.0
PRODID:-//eventon.com NONSGML v1.0//EN
CALSCALE:GREGORIAN
METHOD:PUBLISH
BEGIN:VEVENT
UID:69e79adeb2513
DTSTAMP:20260421T224222
DTSTART:20241125T073100Z
DTEND:20241125T073100Z
TZID:Pacific/Midway
LOCATION:ระยอง 
SUMMARY:ระยอง แฟนซี รัน @บ้านฉาง 2024
DESCRIPTION: ระยอง แฟนซี รัน @บ้านฉาง 2024\nhttps://patrunning.com/events/%e0%b8%a3%e0%b8%b0%e0%b8%a2%e0%b8%ad%e0%b8%87-%e0%b9%81%e0%b8%9f%e0%b8%99%e0%b8%8b%e0%b8%b5-%e0%b8%a3%e0%b8%b1%e0%b8%99-%e0%b8%9a%e0%b9%89%e0%b8%b2%e0%b8%99%e0%b8%89%e0%b8%b2%e0%b8%87-2024/
URL:https://patrunning.com/events/%e0%b8%a3%e0%b8%b0%e0%b8%a2%e0%b8%ad%e0%b8%87-%e0%b9%81%e0%b8%9f%e0%b8%99%e0%b8%8b%e0%b8%b5-%e0%b8%a3%e0%b8%b1%e0%b8%99-%e0%b8%9a%e0%b9%89%e0%b8%b2%e0%b8%99%e0%b8%89%e0%b8%b2%e0%b8%87-2024/
END:VEVENT
END:VCALENDAR