BEGIN:VCALENDAR
VERSION:2.0
PRODID:-//eventon.com NONSGML v1.0//EN
CALSCALE:GREGORIAN
METHOD:PUBLISH
BEGIN:VEVENT
UID:69e752ce08616
DTSTAMP:20260421T173454
DTSTART:20241118T074500Z
DTEND:20241118T074500Z
TZID:Pacific/Midway
LOCATION:ประจวบคีรีขันธ์ 
SUMMARY:Road To Give Hua Hin
DESCRIPTION: Road To Give Hua Hin\nhttps://patrunning.com/events/road-to-give-hua-hin/
URL:https://patrunning.com/events/road-to-give-hua-hin/
END:VEVENT
END:VCALENDAR