BEGIN:VCALENDAR
VERSION:2.0
PRODID:-//eventon.com NONSGML v1.0//EN
CALSCALE:GREGORIAN
METHOD:PUBLISH
BEGIN:VEVENT
UID:69e752e49c5d8
DTSTAMP:20260421T173516
DTSTART:20241104T075300Z
DTEND:20241104T075300Z
TZID:Pacific/Midway
LOCATION:กรุงเทพมหานคร 
SUMMARY:LAZY RUN 2024
DESCRIPTION: LAZY RUN 2024\nhttps://patrunning.com/events/lazy-run-2024/
URL:https://patrunning.com/events/lazy-run-2024/
END:VEVENT
END:VCALENDAR