BEGIN:VCALENDAR
VERSION:2.0
PRODID:-//eventon.com NONSGML v1.0//EN
CALSCALE:GREGORIAN
METHOD:PUBLISH
BEGIN:VEVENT
UID:69e845364e6e3
DTSTAMP:20260422T104910
DTSTART:20250117T224400Z
DTEND:20250119T224400Z
TZID:Pacific/Midway
LOCATION:นครราชสีมา 
SUMMARY:The North Face 100 – Thailand 2025
DESCRIPTION: The North Face 100 – Thailand 2025\nhttps://patrunning.com/events/the-north-face-100-thailand-2025/
URL:https://patrunning.com/events/the-north-face-100-thailand-2025/
END:VEVENT
END:VCALENDAR