BEGIN:VCALENDAR
VERSION:2.0
PRODID:-//eventon.com NONSGML v1.0//EN
CALSCALE:GREGORIAN
METHOD:PUBLISH
BEGIN:VEVENT
UID:69e84573799ce
DTSTAMP:20260422T105011
DTSTART:20241118T042800Z
DTEND:20241118T042800Z
TZID:Pacific/Midway
LOCATION:นครราชสีมา 
SUMMARY:เดินวิ่งบุญธงชัย WALK-RUN  For Life For Hralth
DESCRIPTION: เดินวิ่งบุญธงชัย WALK-RUN  For Life For Hralth\nhttps://patrunning.com/events/%e0%b9%80%e0%b8%94%e0%b8%b4%e0%b8%99%e0%b8%a7%e0%b8%b4%e0%b9%88%e0%b8%87%e0%b8%9a%e0%b8%b8%e0%b8%8d%e0%b8%98%e0%b8%87%e0%b8%8a%e0%b8%b1%e0%b8%a2-walk-run-for-life-for-hralth/
URL:https://patrunning.com/events/%e0%b9%80%e0%b8%94%e0%b8%b4%e0%b8%99%e0%b8%a7%e0%b8%b4%e0%b9%88%e0%b8%87%e0%b8%9a%e0%b8%b8%e0%b8%8d%e0%b8%98%e0%b8%87%e0%b8%8a%e0%b8%b1%e0%b8%a2-walk-run-for-life-for-hralth/
END:VEVENT
END:VCALENDAR