BEGIN:VCALENDAR
VERSION:2.0
PRODID:-//eventon.com NONSGML v1.0//EN
CALSCALE:GREGORIAN
METHOD:PUBLISH
BEGIN:VEVENT
UID:69ea195934629
DTSTAMP:20260423T200633
DTSTART:20250622T225100Z
DTEND:20250622T225100Z
TZID:Pacific/Midway
LOCATION:กำแพงเพชร 
SUMMARY:Kamphaeng Phet Marathon 2025
DESCRIPTION: Kamphaeng Phet Marathon 2025\nhttps://patrunning.com/events/kamphaeng-phet-marathon-2025/
URL:https://patrunning.com/events/kamphaeng-phet-marathon-2025/
END:VEVENT
END:VCALENDAR