BEGIN:VCALENDAR
VERSION:2.0
PRODID:-//eventon.com NONSGML v1.0//EN
CALSCALE:GREGORIAN
METHOD:PUBLISH
BEGIN:VEVENT
UID:69e79ddfd0a2d
DTSTAMP:20260421T225511
DTSTART:20241124T234200Z
DTEND:20241124T234200Z
TZID:Pacific/Midway
LOCATION:ระยอง 
SUMMARY:นาตาขวัญมินิมาราธอน ครั้งที่ 2
DESCRIPTION: นาตาขวัญมินิมาราธอน ครั้งที่ 2\nhttps://patrunning.com/events/%e0%b8%99%e0%b8%b2%e0%b8%95%e0%b8%b2%e0%b8%82%e0%b8%a7%e0%b8%b1%e0%b8%8d%e0%b8%a1%e0%b8%b4%e0%b8%99%e0%b8%b4%e0%b8%a1%e0%b8%b2%e0%b8%a3%e0%b8%b2%e0%b8%98%e0%b8%ad%e0%b8%99-%e0%b8%84%e0%b8%a3%e0%b8%b1/
URL:https://patrunning.com/events/%e0%b8%99%e0%b8%b2%e0%b8%95%e0%b8%b2%e0%b8%82%e0%b8%a7%e0%b8%b1%e0%b8%8d%e0%b8%a1%e0%b8%b4%e0%b8%99%e0%b8%b4%e0%b8%a1%e0%b8%b2%e0%b8%a3%e0%b8%b2%e0%b8%98%e0%b8%ad%e0%b8%99-%e0%b8%84%e0%b8%a3%e0%b8%b1/
END:VEVENT
END:VCALENDAR