BEGIN:VCALENDAR
VERSION:2.0
PRODID:-//eventon.com NONSGML v1.0//EN
CALSCALE:GREGORIAN
METHOD:PUBLISH
BEGIN:VEVENT
UID:69e752ce22cb4
DTSTAMP:20260421T173454
DTSTART:20241028T004900Z
DTEND:20241028T004900Z
TZID:Pacific/Midway
LOCATION:ประจวบคีรีขันธ์ 
SUMMARY:เพชรสมุทรคีรี Run 2024 (สนามที่ 2 ประจวบคีรีขันธ์)
DESCRIPTION: เพชรสมุทรคีรี Run 2024 (สนามที่ 2 ประจวบคีรีขันธ์)\nhttps://patrunning.com/events/%e0%b9%80%e0%b8%9e%e0%b8%8a%e0%b8%a3%e0%b8%aa%e0%b8%a1%e0%b8%b8%e0%b8%97%e0%b8%a3%e0%b8%84%e0%b8%b5%e0%b8%a3%e0%b8%b5-run-2024-%e0%b8%aa%e0%b8%99%e0%b8%b2%e0%b8%a1%e0%b8%97%e0%b8%b5%e0%b9%88-2/
URL:https://patrunning.com/events/%e0%b9%80%e0%b8%9e%e0%b8%8a%e0%b8%a3%e0%b8%aa%e0%b8%a1%e0%b8%b8%e0%b8%97%e0%b8%a3%e0%b8%84%e0%b8%b5%e0%b8%a3%e0%b8%b5-run-2024-%e0%b8%aa%e0%b8%99%e0%b8%b2%e0%b8%a1%e0%b8%97%e0%b8%b5%e0%b9%88-2/
END:VEVENT
END:VCALENDAR