BEGIN:VCALENDAR
VERSION:2.0
PRODID:-//eventon.com NONSGML v1.0//EN
CALSCALE:GREGORIAN
METHOD:PUBLISH
BEGIN:VEVENT
UID:69e845214fdd6
DTSTAMP:20260422T104849
DTSTART:20241222T072800Z
DTEND:20241222T072800Z
TZID:Pacific/Midway
LOCATION:นครราชสีมา 
SUMMARY:Buayai night run Minimarathon 2024  #1 (ไนท์รัน)
DESCRIPTION: Buayai night run Minimarathon 2024  #1 (ไนท์รัน)\nhttps://patrunning.com/events/buayai-night-run-minimarathon-2024-1-%e0%b9%84%e0%b8%99%e0%b8%97%e0%b9%8c%e0%b8%a3%e0%b8%b1%e0%b8%99/
URL:https://patrunning.com/events/buayai-night-run-minimarathon-2024-1-%e0%b9%84%e0%b8%99%e0%b8%97%e0%b9%8c%e0%b8%a3%e0%b8%b1%e0%b8%99/
END:VEVENT
END:VCALENDAR