BEGIN:VCALENDAR
VERSION:2.0
PRODID:-//eventon.com NONSGML v1.0//EN
CALSCALE:GREGORIAN
METHOD:PUBLISH
BEGIN:VEVENT
UID:69e7555c62e3d
DTSTAMP:20260421T174548
DTSTART:20241110T231000Z
DTEND:20241110T231000Z
TZID:Pacific/Midway
LOCATION:ประจวบคีรีขันธ์ 
SUMMARY:วิ่งสานใจไกลกังวล ครั้งที่ 1″ วิ่ง ไป มัน”
DESCRIPTION: วิ่งสานใจไกลกังวล ครั้งที่ 1″ วิ่ง ไป มัน”\nhttps://patrunning.com/events/%e0%b8%a7%e0%b8%b4%e0%b9%88%e0%b8%87%e0%b8%aa%e0%b8%b2%e0%b8%99%e0%b9%83%e0%b8%88%e0%b9%84%e0%b8%81%e0%b8%a5%e0%b8%81%e0%b8%b1%e0%b8%87%e0%b8%a7%e0%b8%a5-%e0%b8%84%e0%b8%a3%e0%b8%b1%e0%b9%89%e0%b8%87/
URL:https://patrunning.com/events/%e0%b8%a7%e0%b8%b4%e0%b9%88%e0%b8%87%e0%b8%aa%e0%b8%b2%e0%b8%99%e0%b9%83%e0%b8%88%e0%b9%84%e0%b8%81%e0%b8%a5%e0%b8%81%e0%b8%b1%e0%b8%87%e0%b8%a7%e0%b8%a5-%e0%b8%84%e0%b8%a3%e0%b8%b1%e0%b9%89%e0%b8%87/
END:VEVENT
END:VCALENDAR