BEGIN:VCALENDAR
VERSION:2.0
PRODID:-//eventon.com NONSGML v1.0//EN
CALSCALE:GREGORIAN
METHOD:PUBLISH
BEGIN:VEVENT
UID:69e845724290a
DTSTAMP:20260422T105010
DTSTART:20241125T021300Z
DTEND:20241125T021300Z
TZID:Pacific/Midway
LOCATION:นครราชสีมา 
SUMMARY:Seema Running 3
DESCRIPTION: Seema Running 3\nhttps://patrunning.com/events/seema-running-3/
URL:https://patrunning.com/events/seema-running-3/
END:VEVENT
END:VCALENDAR