BEGIN:VCALENDAR
VERSION:2.0
PRODID:-//eventon.com NONSGML v1.0//EN
CALSCALE:GREGORIAN
METHOD:PUBLISH
BEGIN:VEVENT
UID:69e79afe0283f
DTSTAMP:20260421T224254
DTSTART:20250101T214300Z
DTEND:20250101T214300Z
TZID:Pacific/Midway
LOCATION:ระยอง 
SUMMARY:เดินวิ่งชมแสงแรกแห่งปีเขามัทรีปากน้ำชุมพร 2025
DESCRIPTION: เดินวิ่งชมแสงแรกแห่งปีเขามัทรีปากน้ำชุมพร 2025\nhttps://patrunning.com/events/%e0%b9%80%e0%b8%94%e0%b8%b4%e0%b8%99%e0%b8%a7%e0%b8%b4%e0%b9%88%e0%b8%87%e0%b8%8a%e0%b8%a1%e0%b9%81%e0%b8%aa%e0%b8%87%e0%b9%81%e0%b8%a3%e0%b8%81%e0%b9%81%e0%b8%ab%e0%b9%88%e0%b8%87%e0%b8%9b%e0%b8%b5/
URL:https://patrunning.com/events/%e0%b9%80%e0%b8%94%e0%b8%b4%e0%b8%99%e0%b8%a7%e0%b8%b4%e0%b9%88%e0%b8%87%e0%b8%8a%e0%b8%a1%e0%b9%81%e0%b8%aa%e0%b8%87%e0%b9%81%e0%b8%a3%e0%b8%81%e0%b9%81%e0%b8%ab%e0%b9%88%e0%b8%87%e0%b8%9b%e0%b8%b5/
END:VEVENT
END:VCALENDAR