BEGIN:VCALENDAR
VERSION:2.0
PRODID:-//eventon.com NONSGML v1.0//EN
CALSCALE:GREGORIAN
METHOD:PUBLISH
BEGIN:VEVENT
UID:69e84572435a4
DTSTAMP:20260422T105010
DTSTART:20250216T215100Z
DTEND:20250216T215100Z
TZID:Pacific/Midway
LOCATION:นครราชสีมา 
SUMMARY:Rawe Running 2025 (แล่น เลาะ บึงระเหว ครั้งที่ 3)
DESCRIPTION: Rawe Running 2025 (แล่น เลาะ บึงระเหว ครั้งที่ 3)\nhttps://patrunning.com/events/rawe-running-2025-%e0%b9%81%e0%b8%a5%e0%b9%88%e0%b8%99-%e0%b9%80%e0%b8%a5%e0%b8%b2%e0%b8%b0-%e0%b8%9a%e0%b8%b6%e0%b8%87%e0%b8%a3%e0%b8%b0%e0%b9%80%e0%b8%ab%e0%b8%a7-%e0%b8%84%e0%b8%a3%e0%b8%b1/
URL:https://patrunning.com/events/rawe-running-2025-%e0%b9%81%e0%b8%a5%e0%b9%88%e0%b8%99-%e0%b9%80%e0%b8%a5%e0%b8%b2%e0%b8%b0-%e0%b8%9a%e0%b8%b6%e0%b8%87%e0%b8%a3%e0%b8%b0%e0%b9%80%e0%b8%ab%e0%b8%a7-%e0%b8%84%e0%b8%a3%e0%b8%b1/
END:VEVENT
END:VCALENDAR