BEGIN:VCALENDAR
VERSION:2.0
PRODID:-//eventon.com NONSGML v1.0//EN
CALSCALE:GREGORIAN
METHOD:PUBLISH
BEGIN:VEVENT
UID:69e79ac409444
DTSTAMP:20260421T224156
DTSTART:20250330T205400Z
DTEND:20250330T205400Z
TZID:Pacific/Midway
LOCATION:ระยอง 
SUMMARY:ประดู่รัน  2 มหาปราบแห่งอัมพวา
DESCRIPTION: ประดู่รัน  2 มหาปราบแห่งอัมพวา\nhttps://patrunning.com/events/%e0%b8%9b%e0%b8%a3%e0%b8%b0%e0%b8%94%e0%b8%b9%e0%b9%88%e0%b8%a3%e0%b8%b1%e0%b8%99-2-%e0%b8%a1%e0%b8%ab%e0%b8%b2%e0%b8%9b%e0%b8%a3%e0%b8%b2%e0%b8%9a%e0%b9%81%e0%b8%ab%e0%b9%88%e0%b8%87%e0%b8%ad/
URL:https://patrunning.com/events/%e0%b8%9b%e0%b8%a3%e0%b8%b0%e0%b8%94%e0%b8%b9%e0%b9%88%e0%b8%a3%e0%b8%b1%e0%b8%99-2-%e0%b8%a1%e0%b8%ab%e0%b8%b2%e0%b8%9b%e0%b8%a3%e0%b8%b2%e0%b8%9a%e0%b9%81%e0%b8%ab%e0%b9%88%e0%b8%87%e0%b8%ad/
END:VEVENT
END:VCALENDAR