BEGIN:VCALENDAR
VERSION:2.0
PRODID:-//eventon.com NONSGML v1.0//EN
CALSCALE:GREGORIAN
METHOD:PUBLISH
BEGIN:VEVENT
UID:69e7516db94d1
DTSTAMP:20260421T172901
DTSTART:20250202T062200Z
DTEND:20250203T062200Z
TZID:Pacific/Midway
LOCATION:ประจวบคีรีขันธ์ 
SUMMARY:Scenic 1/2 Marathon Parnburi 2025
DESCRIPTION: Scenic 1/2 Marathon Parnburi 2025\nhttps://patrunning.com/events/scenic-1-2-marathon-parnburi-2025/
URL:https://patrunning.com/events/scenic-1-2-marathon-parnburi-2025/
END:VEVENT
END:VCALENDAR