BEGIN:VCALENDAR
VERSION:2.0
PRODID:-//eventon.com NONSGML v1.0//EN
CALSCALE:GREGORIAN
METHOD:PUBLISH
BEGIN:VEVENT
UID:69e79deaec11b
DTSTAMP:20260421T225522
DTSTART:20241202T085600Z
DTEND:20241202T085600Z
TZID:Pacific/Midway
LOCATION:ระยอง 
SUMMARY:Amazing City Run & Ride / EP : ซิตี้ไรด์@แหลมฟ้าผ่า
DESCRIPTION: Amazing City Run & Ride / EP : ซิตี้ไรด์@แหลมฟ้าผ่า\nhttps://patrunning.com/events/amazing-city-run-ride-ep-%e0%b8%8b%e0%b8%b4%e0%b8%95%e0%b8%b5%e0%b9%89%e0%b9%84%e0%b8%a3%e0%b8%94%e0%b9%8c%e0%b9%81%e0%b8%ab%e0%b8%a5%e0%b8%a1%e0%b8%9f%e0%b9%89%e0%b8%b2%e0%b8%9c%e0%b9%88/
URL:https://patrunning.com/events/amazing-city-run-ride-ep-%e0%b8%8b%e0%b8%b4%e0%b8%95%e0%b8%b5%e0%b9%89%e0%b9%84%e0%b8%a3%e0%b8%94%e0%b9%8c%e0%b9%81%e0%b8%ab%e0%b8%a5%e0%b8%a1%e0%b8%9f%e0%b9%89%e0%b8%b2%e0%b8%9c%e0%b9%88/
END:VEVENT
END:VCALENDAR