BEGIN:VCALENDAR
VERSION:2.0
PRODID:-//eventon.com NONSGML v1.0//EN
CALSCALE:GREGORIAN
METHOD:PUBLISH
BEGIN:VEVENT
UID:69e8457404b98
DTSTAMP:20260422T105012
DTSTART:20241226T073000Z
DTEND:20241226T073000Z
TZID:Pacific/Midway
LOCATION:นครราชสีมา 
SUMMARY:Santa Fun Run (โคราช)
DESCRIPTION: Santa Fun Run (โคราช)\nhttps://patrunning.com/events/santa-fun-run-%e0%b9%82%e0%b8%84%e0%b8%a3%e0%b8%b2%e0%b8%8a/
URL:https://patrunning.com/events/santa-fun-run-%e0%b9%82%e0%b8%84%e0%b8%a3%e0%b8%b2%e0%b8%8a/
END:VEVENT
END:VCALENDAR