BEGIN:VCALENDAR
VERSION:2.0
PRODID:-//eventon.com NONSGML v1.0//EN
CALSCALE:GREGORIAN
METHOD:PUBLISH
BEGIN:VEVENT
UID:69e79ade04ee1
DTSTAMP:20260421T224222
DTSTART:20241216T013600Z
DTEND:20241216T013600Z
TZID:Pacific/Midway
LOCATION:ระยอง 
SUMMARY:สหายเทรล 2024
DESCRIPTION: สหายเทรล 2024\nhttps://patrunning.com/events/%e0%b8%aa%e0%b8%ab%e0%b8%b2%e0%b8%a2%e0%b9%80%e0%b8%97%e0%b8%a3%e0%b8%a5-2024/
URL:https://patrunning.com/events/%e0%b8%aa%e0%b8%ab%e0%b8%b2%e0%b8%a2%e0%b9%80%e0%b8%97%e0%b8%a3%e0%b8%a5-2024/
END:VEVENT
END:VCALENDAR