BEGIN:VCALENDAR
VERSION:2.0
PRODID:-//eventon.com NONSGML v1.0//EN
CALSCALE:GREGORIAN
METHOD:PUBLISH
BEGIN:VEVENT
UID:69e8a348a0a8e
DTSTAMP:20260422T173032
DTSTART:20250224T011000Z
DTEND:20250224T011000Z
TZID:Pacific/Midway
LOCATION:กรุงเทพมหานคร 
SUMMARY:AssetWise Beauty Run 2025
DESCRIPTION: AssetWise Beauty Run 2025\nhttps://patrunning.com/events/assetwise-beauty-run-2025/
URL:https://patrunning.com/events/assetwise-beauty-run-2025/
END:VEVENT
END:VCALENDAR