BEGIN:VCALENDAR
VERSION:2.0
PRODID:-//eventon.com NONSGML v1.0//EN
CALSCALE:GREGORIAN
METHOD:PUBLISH
BEGIN:VEVENT
UID:69e7882aacefe
DTSTAMP:20260421T212234
DTSTART:20250310T094600Z
DTEND:20250310T094600Z
TZID:Pacific/Midway
LOCATION:ระยอง 
SUMMARY:เดิน-วิ่งมินิมาราธอน  มาบตาพุด ครั้งที่ 14
DESCRIPTION: เดิน-วิ่งมินิมาราธอน  มาบตาพุด ครั้งที่ 14\nhttps://patrunning.com/events/%e0%b9%80%e0%b8%94%e0%b8%b4%e0%b8%99-%e0%b8%a7%e0%b8%b4%e0%b9%88%e0%b8%87%e0%b8%a1%e0%b8%b4%e0%b8%99%e0%b8%b4%e0%b8%a1%e0%b8%b2%e0%b8%a3%e0%b8%b2%e0%b8%98%e0%b8%ad%e0%b8%99-%e0%b8%a1%e0%b8%b2/
URL:https://patrunning.com/events/%e0%b9%80%e0%b8%94%e0%b8%b4%e0%b8%99-%e0%b8%a7%e0%b8%b4%e0%b9%88%e0%b8%87%e0%b8%a1%e0%b8%b4%e0%b8%99%e0%b8%b4%e0%b8%a1%e0%b8%b2%e0%b8%a3%e0%b8%b2%e0%b8%98%e0%b8%ad%e0%b8%99-%e0%b8%a1%e0%b8%b2/
END:VEVENT
END:VCALENDAR