BEGIN:VCALENDAR
VERSION:2.0
PRODID:-//eventon.com NONSGML v1.0//EN
CALSCALE:GREGORIAN
METHOD:PUBLISH
BEGIN:VEVENT
UID:69e8a45e65cb5
DTSTAMP:20260422T173510
DTSTART:20250127T100900Z
DTEND:20250127T100900Z
TZID:Pacific/Midway
LOCATION:กรุงเทพมหานคร 
SUMMARY:วิ่งอย่างเทพ DEBSIRIN RUN 2024
DESCRIPTION: วิ่งอย่างเทพ DEBSIRIN RUN 2024\nhttps://patrunning.com/events/%e0%b8%a7%e0%b8%b4%e0%b9%88%e0%b8%87%e0%b8%ad%e0%b8%a2%e0%b9%88%e0%b8%b2%e0%b8%87%e0%b9%80%e0%b8%97%e0%b8%9e-debsirin-run-2024/
URL:https://patrunning.com/events/%e0%b8%a7%e0%b8%b4%e0%b9%88%e0%b8%87%e0%b8%ad%e0%b8%a2%e0%b9%88%e0%b8%b2%e0%b8%87%e0%b9%80%e0%b8%97%e0%b8%9e-debsirin-run-2024/
END:VEVENT
END:VCALENDAR