BEGIN:VCALENDAR
VERSION:2.0
PRODID:-//eventon.com NONSGML v1.0//EN
CALSCALE:GREGORIAN
METHOD:PUBLISH
BEGIN:VEVENT
UID:69e84534b16cf
DTSTAMP:20260422T104908
DTSTART:20251123T102300Z
DTEND:20251124T102300Z
TZID:Pacific/Midway
LOCATION:นครราชสีมา 
SUMMARY:Cuesta X Trail 2025 # 5th
DESCRIPTION: Cuesta X Trail 2025 # 5th\nhttps://patrunning.com/events/cuesta-x-trail-2025-5th/
URL:https://patrunning.com/events/cuesta-x-trail-2025-5th/
END:VEVENT
END:VCALENDAR