BEGIN:VCALENDAR
VERSION:2.0
PRODID:-//eventon.com NONSGML v1.0//EN
CALSCALE:GREGORIAN
METHOD:PUBLISH
BEGIN:VEVENT
UID:69e750496afb7
DTSTAMP:20260421T172409
DTSTART:20250323T102800Z
DTEND:20250323T102800Z
TZID:Pacific/Midway
LOCATION:ประจวบคีรีขันธ์ 
SUMMARY:พาลูกวิ่งดะ Obstacle on the beach 2025 #Little Pirate run โจรสลัดจิ๋วตะลุยชายหาด
DESCRIPTION: พาลูกวิ่งดะ Obstacle on the beach 2025 #Little Pirate run โจรสลัดจิ๋วตะลุยชายหาด\nhttps://patrunning.com/events/%e0%b8%9e%e0%b8%b2%e0%b8%a5%e0%b8%b9%e0%b8%81%e0%b8%a7%e0%b8%b4%e0%b9%88%e0%b8%87%e0%b8%94%e0%b8%b0-obstacle-on-the-beach-2025-little-pirate-run-%e0%b9%82%e0%b8%88%e0%b8%a3%e0%b8%aa%e0%b8%a5%e0%b8%b1/
URL:https://patrunning.com/events/%e0%b8%9e%e0%b8%b2%e0%b8%a5%e0%b8%b9%e0%b8%81%e0%b8%a7%e0%b8%b4%e0%b9%88%e0%b8%87%e0%b8%94%e0%b8%b0-obstacle-on-the-beach-2025-little-pirate-run-%e0%b9%82%e0%b8%88%e0%b8%a3%e0%b8%aa%e0%b8%a5%e0%b8%b1/
END:VEVENT
END:VCALENDAR