BEGIN:VCALENDAR
VERSION:2.0
PRODID:-//eventon.com NONSGML v1.0//EN
CALSCALE:GREGORIAN
METHOD:PUBLISH
BEGIN:VEVENT
UID:69e7882aadd18
DTSTAMP:20260421T212234
DTSTART:20250127T023500Z
DTEND:20250127T023500Z
TZID:Pacific/Midway
LOCATION:ระยอง 
SUMMARY:ลูก Fun Run เล่น  ตะลุยป่าดึกดำบรรพ์
DESCRIPTION: ลูก Fun Run เล่น  ตะลุยป่าดึกดำบรรพ์\nhttps://patrunning.com/events/%e0%b8%a5%e0%b8%b9%e0%b8%81-fun-run-%e0%b9%80%e0%b8%a5%e0%b9%88%e0%b8%99-%e0%b8%95%e0%b8%b0%e0%b8%a5%e0%b8%b8%e0%b8%a2%e0%b8%9b%e0%b9%88%e0%b8%b2%e0%b8%94%e0%b8%b6%e0%b8%81%e0%b8%94%e0%b8%b3%e0%b8%9a/
URL:https://patrunning.com/events/%e0%b8%a5%e0%b8%b9%e0%b8%81-fun-run-%e0%b9%80%e0%b8%a5%e0%b9%88%e0%b8%99-%e0%b8%95%e0%b8%b0%e0%b8%a5%e0%b8%b8%e0%b8%a2%e0%b8%9b%e0%b9%88%e0%b8%b2%e0%b8%94%e0%b8%b6%e0%b8%81%e0%b8%94%e0%b8%b3%e0%b8%9a/
END:VEVENT
END:VCALENDAR