BEGIN:VCALENDAR
VERSION:2.0
PRODID:-//eventon.com NONSGML v1.0//EN
CALSCALE:GREGORIAN
METHOD:PUBLISH
BEGIN:VEVENT
UID:69e829f254028
DTSTAMP:20260422T085250
DTSTART:20250215T223200Z
DTEND:20250215T223200Z
TZID:Pacific/Midway
LOCATION:นครราชสีมา 
SUMMARY:NIDA Love Runners 2025
DESCRIPTION: NIDA Love Runners 2025\nhttps://patrunning.com/events/nida-love-runners-2025/
URL:https://patrunning.com/events/nida-love-runners-2025/
END:VEVENT
END:VCALENDAR