BEGIN:VCALENDAR
VERSION:2.0
PRODID:-//eventon.com NONSGML v1.0//EN
CALSCALE:GREGORIAN
METHOD:PUBLISH
BEGIN:VEVENT
UID:69ebc7651bbce
DTSTAMP:20260425T024125
DTSTART:20250217T064600Z
DTEND:20250217T064600Z
TZID:Pacific/Midway
LOCATION:นครพนม 
SUMMARY:วิ่งธาตุพนม ชมความงาม อธิษฐานขอพร
DESCRIPTION: วิ่งธาตุพนม ชมความงาม อธิษฐานขอพร\nhttps://patrunning.com/events/%e0%b8%a7%e0%b8%b4%e0%b9%88%e0%b8%87%e0%b8%98%e0%b8%b2%e0%b8%95%e0%b8%b8%e0%b8%9e%e0%b8%99%e0%b8%a1-%e0%b8%8a%e0%b8%a1%e0%b8%84%e0%b8%a7%e0%b8%b2%e0%b8%a1%e0%b8%87%e0%b8%b2%e0%b8%a1-%e0%b8%ad%e0%b8%98/
URL:https://patrunning.com/events/%e0%b8%a7%e0%b8%b4%e0%b9%88%e0%b8%87%e0%b8%98%e0%b8%b2%e0%b8%95%e0%b8%b8%e0%b8%9e%e0%b8%99%e0%b8%a1-%e0%b8%8a%e0%b8%a1%e0%b8%84%e0%b8%a7%e0%b8%b2%e0%b8%a1%e0%b8%87%e0%b8%b2%e0%b8%a1-%e0%b8%ad%e0%b8%98/
END:VEVENT
END:VCALENDAR