BEGIN:VCALENDAR
VERSION:2.0
PRODID:-//eventon.com NONSGML v1.0//EN
CALSCALE:GREGORIAN
METHOD:PUBLISH
BEGIN:VEVENT
UID:69e910257f414
DTSTAMP:20260423T011501
DTSTART:20250303T023800Z
DTEND:20250303T023800Z
TZID:Pacific/Midway
LOCATION:กรุงเทพมหานคร 
SUMMARY:วิ่งด้วยกัน 2025
DESCRIPTION: วิ่งด้วยกัน 2025\nhttps://patrunning.com/events/%e0%b8%a7%e0%b8%b4%e0%b9%88%e0%b8%87%e0%b8%94%e0%b9%89%e0%b8%a7%e0%b8%a2%e0%b8%81%e0%b8%b1%e0%b8%99-2025/
URL:https://patrunning.com/events/%e0%b8%a7%e0%b8%b4%e0%b9%88%e0%b8%87%e0%b8%94%e0%b9%89%e0%b8%a7%e0%b8%a2%e0%b8%81%e0%b8%b1%e0%b8%99-2025/
END:VEVENT
END:VCALENDAR