BEGIN:VCALENDAR
VERSION:2.0
PRODID:-//eventon.com NONSGML v1.0//EN
CALSCALE:GREGORIAN
METHOD:PUBLISH
BEGIN:VEVENT
UID:69e8bd959cef7
DTSTAMP:20260422T192245
DTSTART:20250505T023900Z
DTEND:20250505T023900Z
TZID:Pacific/Midway
LOCATION:กรุงเทพมหานคร 
SUMMARY:CFR RUN ครั้งที่ 1
DESCRIPTION: CFR RUN ครั้งที่ 1\nhttps://patrunning.com/events/cfr-run-%e0%b8%84%e0%b8%a3%e0%b8%b1%e0%b9%89%e0%b8%87%e0%b8%97%e0%b8%b5%e0%b9%88-1/
URL:https://patrunning.com/events/cfr-run-%e0%b8%84%e0%b8%a3%e0%b8%b1%e0%b9%89%e0%b8%87%e0%b8%97%e0%b8%b5%e0%b9%88-1/
END:VEVENT
END:VCALENDAR