BEGIN:VCALENDAR
VERSION:2.0
PRODID:-//eventon.com NONSGML v1.0//EN
CALSCALE:GREGORIAN
METHOD:PUBLISH
BEGIN:VEVENT
UID:69e8bd77a7b91
DTSTAMP:20260422T192215
DTSTART:20250519T024100Z
DTEND:20250519T024100Z
TZID:Pacific/Midway
LOCATION:กรุงเทพมหานคร 
SUMMARY:Supersports 10 Mile Run 2025 Presented by PUMA
DESCRIPTION: Supersports 10 Mile Run 2025 Presented by PUMA\nhttps://patrunning.com/events/supersports-10-mile-run-2025-presented-by-puma/
URL:https://patrunning.com/events/supersports-10-mile-run-2025-presented-by-puma/
END:VEVENT
END:VCALENDAR