BEGIN:VCALENDAR
VERSION:2.0
PRODID:-//eventon.com NONSGML v1.0//EN
CALSCALE:GREGORIAN
METHOD:PUBLISH
BEGIN:VEVENT
UID:69e78869d1c05
DTSTAMP:20260421T212337
DTSTART:20250714T024400Z
DTEND:20250714T024400Z
TZID:Pacific/Midway
LOCATION:ระยอง 
SUMMARY:Trail Masters Series 2025 สนามที่สอง
DESCRIPTION: Trail Masters Series 2025 สนามที่สอง\nhttps://patrunning.com/events/trail-masters-series-2025-%e0%b8%aa%e0%b8%99%e0%b8%b2%e0%b8%a1%e0%b8%97%e0%b8%b5%e0%b9%88%e0%b8%aa%e0%b8%ad%e0%b8%87/
URL:https://patrunning.com/events/trail-masters-series-2025-%e0%b8%aa%e0%b8%99%e0%b8%b2%e0%b8%a1%e0%b8%97%e0%b8%b5%e0%b9%88%e0%b8%aa%e0%b8%ad%e0%b8%87/
END:VEVENT
END:VCALENDAR