BEGIN:VCALENDAR
VERSION:2.0
PRODID:-//eventon.com NONSGML v1.0//EN
CALSCALE:GREGORIAN
METHOD:PUBLISH
BEGIN:VEVENT
UID:69e8bd959cccb
DTSTAMP:20260422T192245
DTSTART:20250505T024900Z
DTEND:20250505T024900Z
TZID:Pacific/Midway
LOCATION:กรุงเทพมหานคร 
SUMMARY:BANGKOK 21K PARK RUN 2025
DESCRIPTION: BANGKOK 21K PARK RUN 2025\nhttps://patrunning.com/events/bangkok-21k-park-run-2025/
URL:https://patrunning.com/events/bangkok-21k-park-run-2025/
END:VEVENT
END:VCALENDAR