BEGIN:VCALENDAR
VERSION:2.0
PRODID:-//eventon.com NONSGML v1.0//EN
CALSCALE:GREGORIAN
METHOD:PUBLISH
BEGIN:VEVENT
UID:69ebc7652d783
DTSTAMP:20260425T024125
DTSTART:20250223T001700Z
DTEND:20250223T001700Z
TZID:Pacific/Midway
LOCATION:นครพนม 
SUMMARY:Nakhonphanom Night RUN Season 1
DESCRIPTION: Nakhonphanom Night RUN Season 1\nhttps://patrunning.com/events/nakhonphanom-night-run-season-1/
URL:https://patrunning.com/events/nakhonphanom-night-run-season-1/
END:VEVENT
END:VCALENDAR