BEGIN:VCALENDAR
VERSION:2.0
PRODID:-//eventon.com NONSGML v1.0//EN
CALSCALE:GREGORIAN
METHOD:PUBLISH
BEGIN:VEVENT
UID:69e8d606a7074
DTSTAMP:20260422T210702
DTSTART:20250609T002900Z
DTEND:20250609T002900Z
TZID:Pacific/Midway
LOCATION:กรุงเทพมหานคร 
SUMMARY:DON BOSCO MINI MARATHON 2025 เพื่อการศึกษา ครั้งที่ 17
DESCRIPTION: DON BOSCO MINI MARATHON 2025 เพื่อการศึกษา ครั้งที่ 17\nhttps://patrunning.com/events/don-bosco-mini-marathon-2025-%e0%b9%80%e0%b8%9e%e0%b8%b7%e0%b9%88%e0%b8%ad%e0%b8%81%e0%b8%b2%e0%b8%a3%e0%b8%a8%e0%b8%b6%e0%b8%81%e0%b8%a9%e0%b8%b2-%e0%b8%84%e0%b8%a3%e0%b8%b1%e0%b9%89%e0%b8%87/
URL:https://patrunning.com/events/don-bosco-mini-marathon-2025-%e0%b9%80%e0%b8%9e%e0%b8%b7%e0%b9%88%e0%b8%ad%e0%b8%81%e0%b8%b2%e0%b8%a3%e0%b8%a8%e0%b8%b6%e0%b8%81%e0%b8%a9%e0%b8%b2-%e0%b8%84%e0%b8%a3%e0%b8%b1%e0%b9%89%e0%b8%87/
END:VEVENT
END:VCALENDAR