BEGIN:VCALENDAR
VERSION:2.0
PRODID:-//eventon.com NONSGML v1.0//EN
CALSCALE:GREGORIAN
METHOD:PUBLISH
BEGIN:VEVENT
UID:69e8bd9ab515a
DTSTAMP:20260422T192250
DTSTART:20250303T003100Z
DTEND:20250303T003100Z
TZID:Pacific/Midway
LOCATION:กรุงเทพมหานคร 
SUMMARY:SMP วิ่งละแวกบ้าน ผสานชุมชน จอมทอง
DESCRIPTION: SMP วิ่งละแวกบ้าน ผสานชุมชน จอมทอง\nhttps://patrunning.com/events/smp-%e0%b8%a7%e0%b8%b4%e0%b9%88%e0%b8%87%e0%b8%a5%e0%b8%b0%e0%b9%81%e0%b8%a7%e0%b8%81%e0%b8%9a%e0%b9%89%e0%b8%b2%e0%b8%99-%e0%b8%9c%e0%b8%aa%e0%b8%b2%e0%b8%99%e0%b8%8a%e0%b8%b8%e0%b8%a1%e0%b8%8a/
URL:https://patrunning.com/events/smp-%e0%b8%a7%e0%b8%b4%e0%b9%88%e0%b8%87%e0%b8%a5%e0%b8%b0%e0%b9%81%e0%b8%a7%e0%b8%81%e0%b8%9a%e0%b9%89%e0%b8%b2%e0%b8%99-%e0%b8%9c%e0%b8%aa%e0%b8%b2%e0%b8%99%e0%b8%8a%e0%b8%b8%e0%b8%a1%e0%b8%8a/
END:VEVENT
END:VCALENDAR