BEGIN:VCALENDAR
VERSION:2.0
PRODID:-//eventon.com NONSGML v1.0//EN
CALSCALE:GREGORIAN
METHOD:PUBLISH
BEGIN:VEVENT
UID:69e8bd77a8e3a
DTSTAMP:20260422T192215
DTSTART:20250505T002200Z
DTEND:20250505T002200Z
TZID:Pacific/Midway
LOCATION:กรุงเทพมหานคร 
SUMMARY:10-Hour Ultramarathon by Suanpruek99 2025
DESCRIPTION: 10-Hour Ultramarathon by Suanpruek99 2025\nhttps://patrunning.com/events/10-hour-ultramarathon-by-suanpruek99-2025/
URL:https://patrunning.com/events/10-hour-ultramarathon-by-suanpruek99-2025/
END:VEVENT
END:VCALENDAR