BEGIN:VCALENDAR
VERSION:2.0
PRODID:-//eventon.com NONSGML v1.0//EN
CALSCALE:GREGORIAN
METHOD:PUBLISH
BEGIN:VEVENT
UID:69e7857178c43
DTSTAMP:20260421T211057
DTSTART:20250519T071900Z
DTEND:20250519T071900Z
TZID:Pacific/Midway
LOCATION:กรุงเทพมหานคร 
SUMMARY:GEN RUN 2025
DESCRIPTION: GEN RUN 2025\nhttps://patrunning.com/events/gen-run-2025/
URL:https://patrunning.com/events/gen-run-2025/
END:VEVENT
END:VCALENDAR