BEGIN:VCALENDAR
VERSION:2.0
PRODID:-//eventon.com NONSGML v1.0//EN
CALSCALE:GREGORIAN
METHOD:PUBLISH
BEGIN:VEVENT
UID:69e7559db93ec
DTSTAMP:20260421T174653
DTSTART:20250602T072100Z
DTEND:20250602T072100Z
TZID:Pacific/Midway
LOCATION:ประจวบคีรีขันธ์ 
SUMMARY:ระเริงรัน ซีซันส์ 2
DESCRIPTION: ระเริงรัน ซีซันส์ 2\nhttps://patrunning.com/events/%e0%b8%a3%e0%b8%b0%e0%b9%80%e0%b8%a3%e0%b8%b4%e0%b8%87%e0%b8%a3%e0%b8%b1%e0%b8%99-%e0%b8%8b%e0%b8%b5%e0%b8%8b%e0%b8%b1%e0%b8%99%e0%b8%aa%e0%b9%8c-2/
URL:https://patrunning.com/events/%e0%b8%a3%e0%b8%b0%e0%b9%80%e0%b8%a3%e0%b8%b4%e0%b8%87%e0%b8%a3%e0%b8%b1%e0%b8%99-%e0%b8%8b%e0%b8%b5%e0%b8%8b%e0%b8%b1%e0%b8%99%e0%b8%aa%e0%b9%8c-2/
END:VEVENT
END:VCALENDAR