BEGIN:VCALENDAR
VERSION:2.0
PRODID:-//eventon.com NONSGML v1.0//EN
CALSCALE:GREGORIAN
METHOD:PUBLISH
BEGIN:VEVENT
UID:69e7880f9ef15
DTSTAMP:20260421T212207
DTSTART:20250310T072900Z
DTEND:20250310T072900Z
TZID:Pacific/Midway
LOCATION:กรุงเทพมหานคร 
SUMMARY:Saengsawang Run for Special Kids 2025 ครั้งที่ 4
DESCRIPTION: Saengsawang Run for Special Kids 2025 ครั้งที่ 4\nhttps://patrunning.com/events/saengsawang-run-for-special-kids-2025-%e0%b8%84%e0%b8%a3%e0%b8%b1%e0%b9%89%e0%b8%87%e0%b8%97%e0%b8%b5%e0%b9%88-4/
URL:https://patrunning.com/events/saengsawang-run-for-special-kids-2025-%e0%b8%84%e0%b8%a3%e0%b8%b1%e0%b9%89%e0%b8%87%e0%b8%97%e0%b8%b5%e0%b9%88-4/
END:VEVENT
END:VCALENDAR