BEGIN:VCALENDAR
VERSION:2.0
PRODID:-//eventon.com NONSGML v1.0//EN
CALSCALE:GREGORIAN
METHOD:PUBLISH
BEGIN:VEVENT
UID:69e7559ede1da
DTSTAMP:20260421T174654
DTSTART:20250414T043000Z
DTEND:20250414T043000Z
TZID:Asia/Bangkok
LOCATION:มหาสารคาม 
SUMMARY:โคกก่อมินิมาราธอน 2025
DESCRIPTION: โคกก่อมินิมาราธอน 2025\nhttps://patrunning.com/events/%e0%b9%82%e0%b8%84%e0%b8%81%e0%b8%81%e0%b9%88%e0%b8%ad%e0%b8%a1%e0%b8%b4%e0%b8%99%e0%b8%b4%e0%b8%a1%e0%b8%b2%e0%b8%a3%e0%b8%b2%e0%b8%98%e0%b8%ad%e0%b8%99-2025/
URL:https://patrunning.com/events/%e0%b9%82%e0%b8%84%e0%b8%81%e0%b8%81%e0%b9%88%e0%b8%ad%e0%b8%a1%e0%b8%b4%e0%b8%99%e0%b8%b4%e0%b8%a1%e0%b8%b2%e0%b8%a3%e0%b8%b2%e0%b8%98%e0%b8%ad%e0%b8%99-2025/
END:VEVENT
END:VCALENDAR