BEGIN:VCALENDAR
VERSION:2.0
PRODID:-//eventon.com NONSGML v1.0//EN
CALSCALE:GREGORIAN
METHOD:PUBLISH
BEGIN:VEVENT
UID:69e78884970d1
DTSTAMP:20260421T212404
DTSTART:20250322T051900Z
DTEND:20250322T051900Z
TZID:Asia/Bangkok
LOCATION:กรุงเทพมหานคร 
SUMMARY:วิ่งล้อมเมือง "Healthy City" (เขตภาษีเจริญ วิ่งฟรี)
DESCRIPTION: วิ่งล้อมเมือง "Healthy City" (เขตภาษีเจริญ วิ่งฟรี)\nhttps://patrunning.com/events/%e0%b8%a7%e0%b8%b4%e0%b9%88%e0%b8%87%e0%b8%a5%e0%b9%89%e0%b8%ad%e0%b8%a1%e0%b9%80%e0%b8%a1%e0%b8%b7%e0%b8%ad%e0%b8%87-healthy-city-%e0%b9%80%e0%b8%82%e0%b8%95%e0%b8%a0%e0%b8%b2%e0%b8%a9%e0%b8%b5/
URL:https://patrunning.com/events/%e0%b8%a7%e0%b8%b4%e0%b9%88%e0%b8%87%e0%b8%a5%e0%b9%89%e0%b8%ad%e0%b8%a1%e0%b9%80%e0%b8%a1%e0%b8%b7%e0%b8%ad%e0%b8%87-healthy-city-%e0%b9%80%e0%b8%82%e0%b8%95%e0%b8%a0%e0%b8%b2%e0%b8%a9%e0%b8%b5/
END:VEVENT
END:VCALENDAR