BEGIN:VCALENDAR
VERSION:2.0
PRODID:-//eventon.com NONSGML v1.0//EN
CALSCALE:GREGORIAN
METHOD:PUBLISH
BEGIN:VEVENT
UID:69e7856528e34
DTSTAMP:20260421T211045
DTSTART:20250406T031900Z
DTEND:20250406T031900Z
TZID:Asia/Bangkok
LOCATION:กรุงเทพมหานคร 
SUMMARY:Run To End Polio - Rotary District 3350
DESCRIPTION: Run To End Polio - Rotary District 3350\nhttps://patrunning.com/events/run-to-end-polio-rotary-district-3350/
URL:https://patrunning.com/events/run-to-end-polio-rotary-district-3350/
END:VEVENT
END:VCALENDAR