BEGIN:VCALENDAR
VERSION:2.0
PRODID:-//eventon.com NONSGML v1.0//EN
CALSCALE:GREGORIAN
METHOD:PUBLISH
BEGIN:VEVENT
UID:69e79ade011d9
DTSTAMP:20260421T224222
DTSTART:20250406T032400Z
DTEND:20250406T032400Z
TZID:Asia/Bangkok
LOCATION:ระยอง 
SUMMARY:LGBTQ  SEXY RUN ON THE BEACH #1 ( Fun run )
DESCRIPTION: LGBTQ  SEXY RUN ON THE BEACH #1 ( Fun run )\nhttps://patrunning.com/events/lgbtq-sexy-run-on-the-beach-1-fun-run/
URL:https://patrunning.com/events/lgbtq-sexy-run-on-the-beach-1-fun-run/
END:VEVENT
END:VCALENDAR