BEGIN:VCALENDAR
VERSION:2.0
PRODID:-//eventon.com NONSGML v1.0//EN
CALSCALE:GREGORIAN
METHOD:PUBLISH
BEGIN:VEVENT
UID:69e78810e993d
DTSTAMP:20260421T212208
DTSTART:20250316T033200Z
DTEND:20250316T033200Z
TZID:Asia/Bangkok
LOCATION:ระยอง 
SUMMARY:WBM 2025 TRAIL RUN 11 ปี  วัดป่าภูมาศ วิ่งสร้างโบสถ์
DESCRIPTION: WBM 2025 TRAIL RUN 11 ปี  วัดป่าภูมาศ วิ่งสร้างโบสถ์\nhttps://patrunning.com/events/wbm-2025-trail-run-11-%e0%b8%9b%e0%b8%b5-%e0%b8%a7%e0%b8%b1%e0%b8%94%e0%b8%9b%e0%b9%88%e0%b8%b2%e0%b8%a0%e0%b8%b9%e0%b8%a1%e0%b8%b2%e0%b8%a8-%e0%b8%a7%e0%b8%b4%e0%b9%88%e0%b8%87%e0%b8%aa%e0%b8%a3-2/
URL:https://patrunning.com/events/wbm-2025-trail-run-11-%e0%b8%9b%e0%b8%b5-%e0%b8%a7%e0%b8%b1%e0%b8%94%e0%b8%9b%e0%b9%88%e0%b8%b2%e0%b8%a0%e0%b8%b9%e0%b8%a1%e0%b8%b2%e0%b8%a8-%e0%b8%a7%e0%b8%b4%e0%b9%88%e0%b8%87%e0%b8%aa%e0%b8%a3-2/
END:VEVENT
END:VCALENDAR