BEGIN:VCALENDAR
VERSION:2.0
PRODID:-//eventon.com NONSGML v1.0//EN
CALSCALE:GREGORIAN
METHOD:PUBLISH
BEGIN:VEVENT
UID:69e76d68d2ea2
DTSTAMP:20260421T192824
DTSTART:20250614T042700Z
DTEND:20250614T042700Z
TZID:Asia/Bangkok
LOCATION:กรุงเทพมหานคร 
SUMMARY:A5 RUN WITH LOVE 2025
DESCRIPTION: A5 RUN WITH LOVE 2025\nhttps://patrunning.com/events/a5-run-with-love-2025/
URL:https://patrunning.com/events/a5-run-with-love-2025/
END:VEVENT
END:VCALENDAR