BEGIN:VCALENDAR
VERSION:2.0
PRODID:-//eventon.com NONSGML v1.0//EN
CALSCALE:GREGORIAN
METHOD:PUBLISH
BEGIN:VEVENT
UID:69e79ae606d20
DTSTAMP:20260421T224230
DTSTART:20250427T031300Z
DTEND:20250427T031300Z
TZID:Asia/Bangkok
LOCATION:กรุงเทพมหานคร 
SUMMARY:วิ่งสนุก ปลูกปัญญา ครั้งที 3
DESCRIPTION: วิ่งสนุก ปลูกปัญญา ครั้งที 3\nhttps://patrunning.com/events/%e0%b8%a7%e0%b8%b4%e0%b9%88%e0%b8%87%e0%b8%aa%e0%b8%99%e0%b8%b8%e0%b8%81-%e0%b8%9b%e0%b8%a5%e0%b8%b9%e0%b8%81%e0%b8%9b%e0%b8%b1%e0%b8%8d%e0%b8%8d%e0%b8%b2-%e0%b8%84%e0%b8%a3%e0%b8%b1%e0%b9%89%e0%b8%87/
URL:https://patrunning.com/events/%e0%b8%a7%e0%b8%b4%e0%b9%88%e0%b8%87%e0%b8%aa%e0%b8%99%e0%b8%b8%e0%b8%81-%e0%b8%9b%e0%b8%a5%e0%b8%b9%e0%b8%81%e0%b8%9b%e0%b8%b1%e0%b8%8d%e0%b8%8d%e0%b8%b2-%e0%b8%84%e0%b8%a3%e0%b8%b1%e0%b9%89%e0%b8%87/
END:VEVENT
END:VCALENDAR