BEGIN:VCALENDAR
VERSION:2.0
PRODID:-//eventon.com NONSGML v1.0//EN
CALSCALE:GREGORIAN
METHOD:PUBLISH
BEGIN:VEVENT
UID:69e8a2ebb9271
DTSTAMP:20260422T172859
DTSTART:20250412T033900Z
DTEND:20250412T033900Z
TZID:Asia/Bangkok
LOCATION:จ.ตรัง 
SUMMARY:Night Run of Love @Trang
DESCRIPTION: Night Run of Love @Trang\nhttps://patrunning.com/events/night-run-of-love-trang/
URL:https://patrunning.com/events/night-run-of-love-trang/
END:VEVENT
END:VCALENDAR