BEGIN:VCALENDAR
VERSION:2.0
PRODID:-//eventon.com NONSGML v1.0//EN
CALSCALE:GREGORIAN
METHOD:PUBLISH
BEGIN:VEVENT
UID:69e829d792fe9
DTSTAMP:20260422T085223
DTSTART:20250524T053800Z
DTEND:20250524T053800Z
TZID:Asia/Bangkok
LOCATION:นครราชสีมา 
SUMMARY:เดิน-วิ่ง ฉลองครบรอบ 100 ปี โรงเรียนสุรนารีวิทยา
DESCRIPTION: เดิน-วิ่ง ฉลองครบรอบ 100 ปี โรงเรียนสุรนารีวิทยา\nhttps://patrunning.com/events/%e0%b9%80%e0%b8%94%e0%b8%b4%e0%b8%99-%e0%b8%a7%e0%b8%b4%e0%b9%88%e0%b8%87-%e0%b8%89%e0%b8%a5%e0%b8%ad%e0%b8%87%e0%b8%84%e0%b8%a3%e0%b8%9a%e0%b8%a3%e0%b8%ad%e0%b8%9a-100-%e0%b8%9b%e0%b8%b5-%e0%b9%82/
URL:https://patrunning.com/events/%e0%b9%80%e0%b8%94%e0%b8%b4%e0%b8%99-%e0%b8%a7%e0%b8%b4%e0%b9%88%e0%b8%87-%e0%b8%89%e0%b8%a5%e0%b8%ad%e0%b8%87%e0%b8%84%e0%b8%a3%e0%b8%9a%e0%b8%a3%e0%b8%ad%e0%b8%9a-100-%e0%b8%9b%e0%b8%b5-%e0%b9%82/
END:VEVENT
END:VCALENDAR