BEGIN:VCALENDAR
VERSION:2.0
PRODID:-//eventon.com NONSGML v1.0//EN
CALSCALE:GREGORIAN
METHOD:PUBLISH
BEGIN:VEVENT
UID:69e7881077494
DTSTAMP:20260421T212208
DTSTART:20250615T054100Z
DTEND:20250615T054100Z
TZID:Asia/Bangkok
LOCATION:กรุงเทพมหานคร 
SUMMARY:ก้าวท้าใจ 10K Thailand Championship 2025 Presented by LG
DESCRIPTION: ก้าวท้าใจ 10K Thailand Championship 2025 Presented by LG\nhttps://patrunning.com/events/%e0%b8%81%e0%b9%89%e0%b8%b2%e0%b8%a7%e0%b8%97%e0%b9%89%e0%b8%b2%e0%b9%83%e0%b8%88-10k-thailand-championship-2025-presented-by-lg/
URL:https://patrunning.com/events/%e0%b8%81%e0%b9%89%e0%b8%b2%e0%b8%a7%e0%b8%97%e0%b9%89%e0%b8%b2%e0%b9%83%e0%b8%88-10k-thailand-championship-2025-presented-by-lg/
END:VEVENT
END:VCALENDAR