BEGIN:VCALENDAR
VERSION:2.0
PRODID:-//eventon.com NONSGML v1.0//EN
CALSCALE:GREGORIAN
METHOD:PUBLISH
BEGIN:VEVENT
UID:69e79ac1e7e4d
DTSTAMP:20260421T224153
DTSTART:20250323T120700Z
DTEND:20250323T120700Z
TZID:Asia/Bangkok
LOCATION:กรุงเทพมหานคร 
SUMMARY:Taste and Trails City Run Banthat Thong 2025
DESCRIPTION: Taste and Trails City Run Banthat Thong 2025\nhttps://patrunning.com/events/taste-and-trails-city-run-banthat-thong-2025/
URL:https://patrunning.com/events/taste-and-trails-city-run-banthat-thong-2025/
END:VEVENT
END:VCALENDAR