BEGIN:VCALENDAR
VERSION:2.0
PRODID:-//eventon.com NONSGML v1.0//EN
CALSCALE:GREGORIAN
METHOD:PUBLISH
BEGIN:VEVENT
UID:69e76d68d4a7d
DTSTAMP:20260421T192824
DTSTART:20250622T121200Z
DTEND:20250622T121200Z
TZID:Asia/Bangkok
LOCATION:กรุงเทพมหานคร 
SUMMARY:วิ่งครอบครัวโยธิน ครั้งที่ 4 เส้นทางสู่ปี 90
DESCRIPTION: วิ่งครอบครัวโยธิน ครั้งที่ 4 เส้นทางสู่ปี 90\nhttps://patrunning.com/events/%e0%b8%a7%e0%b8%b4%e0%b9%88%e0%b8%87%e0%b8%84%e0%b8%a3%e0%b8%ad%e0%b8%9a%e0%b8%84%e0%b8%a3%e0%b8%b1%e0%b8%a7%e0%b9%82%e0%b8%a2%e0%b8%98%e0%b8%b4%e0%b8%99-%e0%b8%84%e0%b8%a3%e0%b8%b1%e0%b9%89%e0%b8%87/
URL:https://patrunning.com/events/%e0%b8%a7%e0%b8%b4%e0%b9%88%e0%b8%87%e0%b8%84%e0%b8%a3%e0%b8%ad%e0%b8%9a%e0%b8%84%e0%b8%a3%e0%b8%b1%e0%b8%a7%e0%b9%82%e0%b8%a2%e0%b8%98%e0%b8%b4%e0%b8%99-%e0%b8%84%e0%b8%a3%e0%b8%b1%e0%b9%89%e0%b8%87/
END:VEVENT
END:VCALENDAR